BEGIN:VCALENDAR
VERSION:2.0
PRODID:www.t23hotel.com
X-WR-CALNAME:Calendar Of Events
X-WR-CALDESC:Lists the events
X-WR-TIMEZONE:America/New_York
BEGIN:VTIMEZONE
TZID:America/New_York
X-LIC-LOCATION:America/New_York
END:VTIMEZONE
BEGIN:VEVENT
UID:69ed03048cccc
DTSTART;VALUE=DATE:20260107
SEQUENCE:0
TRANSP:OPAQUE
URL:https://www.t23hotel.com/calender/pop-off
SUMMARY:Pop Off
CLASS:PUBLIC
DESCRIPTION:Pop Off\n\n50% Off Curated Selection of Wines by the Bottle
RRULE:FREQ=WEEKLY;INTERVAL=1;UNTIL=20261230T000000Z;BYDAY=WE
X-MICROSOFT-CDO-ALLDAYEVENT:TRUE
DTSTAMP:20260425T180804Z
END:VEVENT
BEGIN:VEVENT
UID:69ed03048fed2
DTSTART;VALUE=DATE:20260315
SEQUENCE:0
TRANSP:OPAQUE
URL:https://www.t23hotel.com/calender/march-madness
SUMMARY:March Madness
CLASS:PUBLIC
DESCRIPTION:March Madness\n\nBig Screen & Big Action
RRULE:FREQ=DAILY;INTERVAL=1;UNTIL=20260406T000000Z
X-MICROSOFT-CDO-ALLDAYEVENT:TRUE
DTSTAMP:20260425T180804Z
END:VEVENT
BEGIN:VEVENT
UID:69ed030493bad
DTSTART;VALUE=DATE:20260401
SEQUENCE:0
TRANSP:OPAQUE
URL:https://www.t23hotel.com/calender/sundown-sets
SUMMARY:Sundown Sets
CLASS:PUBLIC
DESCRIPTION:Sundown Sets\n\nLive Music on Wednesdays
RRULE:FREQ=WEEKLY;INTERVAL=1;UNTIL=20260527T000000Z;BYDAY=WE
X-MICROSOFT-CDO-ALLDAYEVENT:TRUE
DTSTAMP:20260425T180804Z
END:VEVENT
BEGIN:VEVENT
UID:69ed0304966c1
DTSTART;VALUE=DATE:20260404
SEQUENCE:0
TRANSP:OPAQUE
URL:https://www.t23hotel.com/calender/tacos-tequila
SUMMARY:Tuesday Tacos & Tequila
CLASS:PUBLIC
DESCRIPTION:Tuesday Tacos & Tequila\n\nJoin us Tuesdays for tequila\, tacos
 \, sunsets. Some things just belong together.
RRULE:FREQ=DAILY;INTERVAL=1;UNTIL=20260428T000000Z
X-MICROSOFT-CDO-ALLDAYEVENT:TRUE
DTSTAMP:20260425T180804Z
END:VEVENT
BEGIN:VEVENT
UID:69ed030498eaf
DTSTART;VALUE=DATE:20260405
SEQUENCE:0
TRANSP:OPAQUE
URL:https://www.t23hotel.com/calender/easter
SUMMARY:Easter Brunch
CLASS:PUBLIC
DESCRIPTION:Easter Brunch\n\nHop on over to the loveliest beachside brunch 
 in town as JRDN celebrates Easter with ala carte Spring specials and festi
 ve libations
RRULE:FREQ=DAILY;INTERVAL=1;UNTIL=20260405T000000Z
X-MICROSOFT-CDO-ALLDAYEVENT:TRUE
CATEGORIES:Holiday Events
DTSTAMP:20260425T180804Z
END:VEVENT
BEGIN:VEVENT
UID:69ed03049a497
DTSTART;VALUE=DATE:20260510
SEQUENCE:0
TRANSP:OPAQUE
URL:https://www.t23hotel.com/calender/mothers-day-brunch
SUMMARY:Mother's Day Brunch
CLASS:PUBLIC
DESCRIPTION:Mother's Day Brunch\n\nCelebrate Mom with a Beachside Brunch
RRULE:FREQ=DAILY;INTERVAL=1;UNTIL=20260510T000000Z
X-MICROSOFT-CDO-ALLDAYEVENT:TRUE
CATEGORIES:Holiday Events
DTSTAMP:20260425T180804Z
END:VEVENT
END:VCALENDAR